<?xml version="1.0"?>
<Capabilities xmlns="http://www.opengis.net/wmts/1.0" xmlns:ows="http://www.opengis.net/ows/1.1" xmlns:xlink="http://www.w3.org/1999/xlink" xmlns:xsi="http://www.w3.org/2001/XMLSchema-instance" xmlns:gml="http://www.opengis.net/gml" xsi:schemaLocation="http://www.opengis.net/wmts/1.0 http://schemas.opengis.net/wmts/1.0/wmtsGetCapabilities_response.xsd" version="1.0.0">
  <ows:ServiceIdentification>
    <ows:Title>WMTS Ombres - ICGC</ows:Title>
    <ows:Abstract>Servei WMTS Ombres de muntanya - ICGC</ows:Abstract>
    <ows:ServiceType>OGC WMTS</ows:ServiceType>
    <ows:ServiceTypeVersion>1.0.0</ows:ServiceTypeVersion>
    <ows:Fees>none</ows:Fees>
    <ows:AccessConstraints>none</ows:AccessConstraints>
  </ows:ServiceIdentification>
  <Contents>
    <Layer>
      <ows:Title>Capes ombres de muntanya - tipus clar</ows:Title>
      <ows:Abstract></ows:Abstract>
      <ows:WGS84BoundingBox>
        <ows:LowerCorner>0.030420432536880683 40.480444616083936</ows:LowerCorner>
        <ows:UpperCorner>3.486242225112867 43.05147116664476</ows:UpperCorner>
      </ows:WGS84BoundingBox>
      <ows:Identifier>ombres_tclar</ows:Identifier>
      <Style>
        <ows:Identifier>default</ows:Identifier>
      </Style>
      <Format>image/jpeg</Format>
      <TileMatrixSetLink>
        <TileMatrixSet>UTM25831</TileMatrixSet>
      </TileMatrixSetLink>
      <ResourceURL format="image/jpeg" resourceType="tile"
        template="http://geoserveis.icgc.cat/map/ombres_muntanya/wmts/ombres_tclar/ombres_tclar/{TileMatrixSet}/{TileMatrix}/{TileCol}/{TileRow}.jpeg"/>
    </Layer>
    <Layer>
      <ows:Title>Capes ombres de muntanya - tipus fosc</ows:Title>
      <ows:Abstract></ows:Abstract>
      <ows:WGS84BoundingBox>
        <ows:LowerCorner>0.030420432536880683 40.480444616083936</ows:LowerCorner>
        <ows:UpperCorner>3.486242225112867 43.05147116664476</ows:UpperCorner>
      </ows:WGS84BoundingBox>
      <ows:Identifier>ombres_tfosc</ows:Identifier>
      <Style>
        <ows:Identifier>default</ows:Identifier>
      </Style>
      <Format>image/jpeg</Format>
      <TileMatrixSetLink>
        <TileMatrixSet>UTM25831</TileMatrixSet>
      </TileMatrixSetLink>
      <ResourceURL format="image/jpeg" resourceType="tile"
        template="http://geoserveis.icgc.cat/map/ombres_muntanya/wmts/ombres_tclar/ombres_tfosc/{TileMatrixSet}/{TileMatrix}/{TileCol}/{TileRow}.jpeg"/>
    </Layer>
    <Layer>
      <ows:Title>Capes ombres de muntanya - tipus moltfosc</ows:Title>
      <ows:Abstract></ows:Abstract>
      <ows:WGS84BoundingBox>
        <ows:LowerCorner>0.030420432536880683 40.480444616083936</ows:LowerCorner>
        <ows:UpperCorner>3.486242225112867 43.05147116664476</ows:UpperCorner>
      </ows:WGS84BoundingBox>
      <ows:Identifier>ombres_tmoltfosc</ows:Identifier>
      <Style>
        <ows:Identifier>default</ows:Identifier>
      </Style>
      <Format>image/jpeg</Format>
      <TileMatrixSetLink>
        <TileMatrixSet>UTM25831</TileMatrixSet>
      </TileMatrixSetLink>
      <ResourceURL format="image/jpeg" resourceType="tile"
        template="http://geoserveis.icgc.cat/map/ombres_muntanya/wmts/ombres_tclar/ombres_tmoltfosc/{TileMatrixSet}/{TileMatrix}/{TileCol}/{TileRow}.jpeg"/>
    </Layer>
    <TileMatrixSet>
      <ows:Identifier>UTM25831</ows:Identifier>
      <ows:SupportedCRS>EPSG:25831</ows:SupportedCRS>
      <TileMatrix>
        <ows:Identifier>00</ows:Identifier>
        <ScaleDenominator>3928571.428571428</ScaleDenominator>
        <TopLeftCorner>258000.0 4766600.0</TopLeftCorner>
        <TileWidth>256</TileWidth>
        <TileHeight>256</TileHeight>
        <MatrixWidth>1</MatrixWidth>
        <MatrixHeight>1</MatrixHeight>
      </TileMatrix>
      <TileMatrix>
        <ows:Identifier>01</ows:Identifier>
        <ScaleDenominator>1964285.714285714</ScaleDenominator>
        <TopLeftCorner>258000.0 4766600.0</TopLeftCorner>
        <TileWidth>256</TileWidth>
        <TileHeight>256</TileHeight>
        <MatrixWidth>2</MatrixWidth>
        <MatrixHeight>2</MatrixHeight>
      </TileMatrix>
      <TileMatrix>
        <ows:Identifier>02</ows:Identifier>
        <ScaleDenominator>982142.857142857</ScaleDenominator>
        <TopLeftCorner>258000.0 4766600.0</TopLeftCorner>
        <TileWidth>256</TileWidth>
        <TileHeight>256</TileHeight>
        <MatrixWidth>4</MatrixWidth>
        <MatrixHeight>4</MatrixHeight>
      </TileMatrix>
      <TileMatrix>
        <ows:Identifier>03</ows:Identifier>
        <ScaleDenominator>357142.8571428571</ScaleDenominator>
        <TopLeftCorner>258000.0 4766600.0</TopLeftCorner>
        <TileWidth>256</TileWidth>
        <TileHeight>256</TileHeight>
        <MatrixWidth>11</MatrixWidth>
        <MatrixHeight>11</MatrixHeight>
      </TileMatrix>
      <TileMatrix>
        <ows:Identifier>04</ows:Identifier>
        <ScaleDenominator>178571.42857142855</ScaleDenominator>
        <TopLeftCorner>258000.0 4766600.0</TopLeftCorner>
        <TileWidth>256</TileWidth>
        <TileHeight>256</TileHeight>
        <MatrixWidth>22</MatrixWidth>
        <MatrixHeight>22</MatrixHeight>
      </TileMatrix>
      <TileMatrix>
        <ows:Identifier>05</ows:Identifier>
        <ScaleDenominator>89285.71428571428</ScaleDenominator>
        <TopLeftCorner>258000.0 4766600.0</TopLeftCorner>
        <TileWidth>256</TileWidth>
        <TileHeight>256</TileHeight>
        <MatrixWidth>44</MatrixWidth>
        <MatrixHeight>44</MatrixHeight>
      </TileMatrix>
      <TileMatrix>
        <ows:Identifier>06</ows:Identifier>
        <ScaleDenominator>35714.28571428571</ScaleDenominator>
        <TopLeftCorner>258000.0 4766600.0</TopLeftCorner>
        <TileWidth>256</TileWidth>
        <TileHeight>256</TileHeight>
        <MatrixWidth>110</MatrixWidth>
        <MatrixHeight>110</MatrixHeight>
      </TileMatrix>
      <TileMatrix>
        <ows:Identifier>07</ows:Identifier>
        <ScaleDenominator>17857.142857142855</ScaleDenominator>
        <TopLeftCorner>258000.0 4766600.0</TopLeftCorner>
        <TileWidth>256</TileWidth>
        <TileHeight>256</TileHeight>
        <MatrixWidth>220</MatrixWidth>
        <MatrixHeight>220</MatrixHeight>
      </TileMatrix>
      <TileMatrix>
        <ows:Identifier>08</ows:Identifier>
        <ScaleDenominator>7142.857142857142</ScaleDenominator>
        <TopLeftCorner>258000.0 4766600.0</TopLeftCorner>
        <TileWidth>256</TileWidth>
        <TileHeight>256</TileHeight>
        <MatrixWidth>550</MatrixWidth>
        <MatrixHeight>550</MatrixHeight>
      </TileMatrix>
      <TileMatrix>
        <ows:Identifier>09</ows:Identifier>
        <ScaleDenominator>3571.428571428571</ScaleDenominator>
        <TopLeftCorner>258000.0 4766600.0</TopLeftCorner>
        <TileWidth>256</TileWidth>
        <TileHeight>256</TileHeight>
        <MatrixWidth>1100</MatrixWidth>
        <MatrixHeight>1100</MatrixHeight>
      </TileMatrix>
      <TileMatrix>
        <ows:Identifier>10</ows:Identifier>
        <ScaleDenominator>1785.7142857142856</ScaleDenominator>
        <TopLeftCorner>258000.0 4766600.0</TopLeftCorner>
        <TileWidth>256</TileWidth>
        <TileHeight>256</TileHeight>
        <MatrixWidth>2200</MatrixWidth>
        <MatrixHeight>2200</MatrixHeight>
      </TileMatrix>
      <TileMatrix>
        <ows:Identifier>11</ows:Identifier>
        <ScaleDenominator>892.8571428571428</ScaleDenominator>
        <TopLeftCorner>258000.0 4766600.0</TopLeftCorner>
        <TileWidth>256</TileWidth>
        <TileHeight>256</TileHeight>
        <MatrixWidth>4400</MatrixWidth>
        <MatrixHeight>4400</MatrixHeight>
      </TileMatrix>
      <TileMatrix>
        <ows:Identifier>12</ows:Identifier>
        <ScaleDenominator>357.1428571428571</ScaleDenominator>
        <TopLeftCorner>258000.0 4766600.0</TopLeftCorner>
        <TileWidth>256</TileWidth>
        <TileHeight>256</TileHeight>
        <MatrixWidth>11000</MatrixWidth>
        <MatrixHeight>11000</MatrixHeight>
      </TileMatrix>
    </TileMatrixSet>
  </Contents>
  <ServiceMetadataURL xlink:href="http://geoserveis.icgc.cat/map/ombres_muntanya/wmts/ombres_tclar/1.0.0/WMTSCapabilities.xml"/>
</Capabilities>